BEGIN:VCALENDAR
VERSION:2.0
PRODID:-//Tukios.com/
BEGIN:VEVENT
UID:137da350-b489-4400-af5b-f145704b3e0e@www.kirkfuneral.com
DTSTAMP:20260420T082950Z
DTSTART:20260425T160000Z
DTEND:20260425T170000Z
SUMMARY:Celebration of Life
DESCRIPTION:
URL:https://www.kirkfuneral.com/obituaries/rodney-forbes
LOCATION: 1020 7th Ave. NE  Ardmore OK 73401
GEO:34.1778391;-97.1140464
END:VEVENT
END:VCALENDAR