BEGIN:VCALENDAR
VERSION:2.0
PRODID:-//Tukios.com/
BEGIN:VEVENT
UID:0157f78a-f9da-4971-affd-f1181d236bce@www.kirkfuneral.com
DTSTAMP:20260420T083042Z
DTSTART:20260425
SUMMARY:Burial
DESCRIPTION:
URL:https://www.kirkfuneral.com/obituaries/rodney-forbes
LOCATION: 12 Berwyn Ln.  Gene Autry OK 73436
GEO:34.2860423;-97.0415883
END:VEVENT
END:VCALENDAR