BEGIN:VCALENDAR
VERSION:2.0
PRODID:-//Tukios.com/
BEGIN:VEVENT
UID:e8af62d9-7397-4a03-b551-4cc225a74666@www.kirkfuneral.com
DTSTAMP:20260420T083339Z
DTSTART:20260424T160000Z
DTEND:20260424T220000Z
SUMMARY:Viewing
DESCRIPTION:
URL:https://www.kirkfuneral.com/obituaries/rodney-forbes
LOCATION: 6 E Street NE  Ardmore OK 73401
GEO:34.1710184;-97.1220787
END:VEVENT
END:VCALENDAR